BEGIN:VCALENDAR
VERSION:2.0
PRODID:-//Colegio Tres Olivos - ECPv6.10.1.1//NONSGML v1.0//EN
CALSCALE:GREGORIAN
METHOD:PUBLISH
X-ORIGINAL-URL:https://colegiotresolivos.org
X-WR-CALDESC:Eventos para Colegio Tres Olivos
REFRESH-INTERVAL;VALUE=DURATION:PT1H
X-Robots-Tag:noindex
X-PUBLISHED-TTL:PT1H
BEGIN:VTIMEZONE
TZID:UTC
BEGIN:STANDARD
TZOFFSETFROM:+0000
TZOFFSETTO:+0000
TZNAME:UTC
DTSTART:20210101T000000
END:STANDARD
END:VTIMEZONE
BEGIN:VEVENT
DTSTART;TZID=UTC:20211115T173000
DTEND;TZID=UTC:20211115T183000
DTSTAMP:20260423T073909
CREATED:20211007T143508Z
LAST-MODIFIED:20211013T140407Z
UID:4497-1636997400-1637001000@colegiotresolivos.org
SUMMARY:Charla Margarita Iniesta " La adolescencia y el papel de la familia" para familias 1º de la ESO
DESCRIPTION:
URL:https://colegiotresolivos.org/calendario/charla-margarita-iniesta-cambios-en-la-adolescencia-para-1o-de-la-eso/
CATEGORIES:charlas,talleres conferencias
END:VEVENT
END:VCALENDAR