BEGIN:VCALENDAR
VERSION:2.0
PRODID:-//Colegio Tres Olivos - ECPv6.10.1.1//NONSGML v1.0//EN
CALSCALE:GREGORIAN
METHOD:PUBLISH
X-ORIGINAL-URL:https://colegiotresolivos.org
X-WR-CALDESC:Eventos para Colegio Tres Olivos
REFRESH-INTERVAL;VALUE=DURATION:PT1H
X-Robots-Tag:noindex
X-PUBLISHED-TTL:PT1H
BEGIN:VTIMEZONE
TZID:UTC
BEGIN:STANDARD
TZOFFSETFROM:+0000
TZOFFSETTO:+0000
TZNAME:UTC
DTSTART:20210101T000000
END:STANDARD
END:VTIMEZONE
BEGIN:VEVENT
DTSTART;TZID=UTC:20210225T171500
DTEND;TZID=UTC:20210225T183000
DTSTAMP:20260423T194458
CREATED:20210225T171556Z
LAST-MODIFIED:20210301T113019Z
UID:3851-1614273300-1614277800@colegiotresolivos.org
SUMMARY:Reunión familias 3º ESO: Orientación
DESCRIPTION:
URL:https://colegiotresolivos.org/calendario/reunion-familias-3o-eso-orientacion/
CATEGORIES:charlas,Reuniones,School,talleres conferencias
END:VEVENT
END:VCALENDAR