BEGIN:VCALENDAR
VERSION:2.0
PRODID:-//Colegio Tres Olivos - ECPv6.10.1.1//NONSGML v1.0//EN
CALSCALE:GREGORIAN
METHOD:PUBLISH
X-ORIGINAL-URL:https://colegiotresolivos.org
X-WR-CALDESC:Eventos para Colegio Tres Olivos
REFRESH-INTERVAL;VALUE=DURATION:PT1H
X-Robots-Tag:noindex
X-PUBLISHED-TTL:PT1H
BEGIN:VTIMEZONE
TZID:UTC
BEGIN:STANDARD
TZOFFSETFROM:+0000
TZOFFSETTO:+0000
TZNAME:UTC
DTSTART:20210101T000000
END:STANDARD
END:VTIMEZONE
BEGIN:VEVENT
DTSTART;TZID=UTC:20210224T171500
DTEND;TZID=UTC:20210224T183000
DTSTAMP:20260423T194459
CREATED:20210217T132324Z
LAST-MODIFIED:20210217T140136Z
UID:3847-1614186900-1614191400@colegiotresolivos.org
SUMMARY:Reunión Familias 1º ESO : Cómo ayudar a nuestros hijos en casa
DESCRIPTION:
URL:https://colegiotresolivos.org/calendario/reunion-familias-1o-eso-como-ayudar-a-nuestros-hijos-en-casa/
END:VEVENT
END:VCALENDAR