BEGIN:VCALENDAR
VERSION:2.0
PRODID:-//Colegio Tres Olivos - ECPv6.10.1.1//NONSGML v1.0//EN
CALSCALE:GREGORIAN
METHOD:PUBLISH
X-ORIGINAL-URL:https://colegiotresolivos.org
X-WR-CALDESC:Eventos para Colegio Tres Olivos
REFRESH-INTERVAL;VALUE=DURATION:PT1H
X-Robots-Tag:noindex
X-PUBLISHED-TTL:PT1H
BEGIN:VTIMEZONE
TZID:UTC
BEGIN:STANDARD
TZOFFSETFROM:+0000
TZOFFSETTO:+0000
TZNAME:UTC
DTSTART:20220101T000000
END:STANDARD
END:VTIMEZONE
BEGIN:VEVENT
DTSTART;TZID=UTC:20220211T080000
DTEND;TZID=UTC:20220211T140000
DTSTAMP:20260425T035748
CREATED:20220209T092339Z
LAST-MODIFIED:20220209T092339Z
UID:5009-1644566400-1644588000@colegiotresolivos.org
SUMMARY:1º Bach visita  ESIC
DESCRIPTION:
URL:https://colegiotresolivos.org/calendario/1o-bach-visita-esic/
CATEGORIES:charlas,Salidas,talleres conferencias
END:VEVENT
END:VCALENDAR